BEGIN:VCALENDAR
VERSION:2.0
PRODID:-//abfalltaucher.ch - ECPv6.15.13.1//NONSGML v1.0//EN
CALSCALE:GREGORIAN
METHOD:PUBLISH
X-WR-CALNAME:abfalltaucher.ch
X-ORIGINAL-URL:https://abfalltaucher.ch
X-WR-CALDESC:Veranstaltungen für abfalltaucher.ch
REFRESH-INTERVAL;VALUE=DURATION:PT1H
X-Robots-Tag:noindex
X-PUBLISHED-TTL:PT1H
BEGIN:VTIMEZONE
TZID:Europe/Berlin
BEGIN:DAYLIGHT
TZOFFSETFROM:+0100
TZOFFSETTO:+0200
TZNAME:CEST
DTSTART:20240331T010000
END:DAYLIGHT
BEGIN:STANDARD
TZOFFSETFROM:+0200
TZOFFSETTO:+0100
TZNAME:CET
DTSTART:20241027T010000
END:STANDARD
BEGIN:DAYLIGHT
TZOFFSETFROM:+0100
TZOFFSETTO:+0200
TZNAME:CEST
DTSTART:20250330T010000
END:DAYLIGHT
BEGIN:STANDARD
TZOFFSETFROM:+0200
TZOFFSETTO:+0100
TZNAME:CET
DTSTART:20251026T010000
END:STANDARD
BEGIN:DAYLIGHT
TZOFFSETFROM:+0100
TZOFFSETTO:+0200
TZNAME:CEST
DTSTART:20260329T010000
END:DAYLIGHT
BEGIN:STANDARD
TZOFFSETFROM:+0200
TZOFFSETTO:+0100
TZNAME:CET
DTSTART:20261025T010000
END:STANDARD
END:VTIMEZONE
BEGIN:VEVENT
DTSTART;TZID=Europe/Berlin:20250705T090000
DTEND;TZID=Europe/Berlin:20250705T160000
DTSTAMP:20260425T121750
CREATED:20250116T131230Z
LAST-MODIFIED:20250604T141517Z
UID:2929-1751706000-1751731200@abfalltaucher.ch
SUMMARY:Cleanup Aare Solothurn
DESCRIPTION:Cleanup Solothurn\nSchon bald werden wir unseren nächsten Cleanup in der Aare absolvieren. Dieses Mal in Solothurn. \nZeitplan: \n\n08:00 Besammlung Vorstand\n09:00 Besammlung Teilnehmende\n09:30 Briefing 1\, anschliessend Gruppenfoto\n10:30 – 11:30 erster Tauchgang\n11:30 – 13:00 Mittagspause\n13:05 Briefing 2\n13:30 – 14:30 zweiter Tauchgang\nAb 14:30 Reorganisation & Ende des Events\n\nVereinsmitglieder melden sich über das Clubdesk an.\nNichtmitglieder melden sich gerne beim Einsatzleiter Andi Fäh per Mail an andi.faeh@abfalltaucher.ch \nBitte bei der Anmeldung folgendes erfassen:\n– Taucher/in\, Landhelfer/in\n– Verpflegung vegan oder standard Kost\n– Falls Tauchflaschen benötigt werden (beschränkte Anzahl) \nParkieren: \nAuf Höhe Tennisplatz sind die Parkplätze für uns reserviert. \nAnmeldeschluss ist der 15.6.2025\nBis bald und Gut Luft. \nVorstand Abfalltaucher
URL:https://abfalltaucher.ch/event/cleanup-aare-solothurn/
LOCATION:Solothurn Aare\, Ritterquai 8\, Solothurn\, 4500\, Switzerland
CATEGORIES:Cleanup Events
ORGANIZER;CN="Abfalltaucher Schweiz":MAILTO:praesi@abfalltaucher.ch
END:VEVENT
BEGIN:VEVENT
DTSTART;TZID=Europe/Berlin:20250719T090000
DTEND;TZID=Europe/Berlin:20250719T170000
DTSTAMP:20260425T121750
CREATED:20250116T131321Z
LAST-MODIFIED:20250703T062032Z
UID:2931-1752915600-1752944400@abfalltaucher.ch
SUMMARY:Cleanup Dietikon
DESCRIPTION:Limmat-Cleanup in Dietikon\nZusammen mit der Polizei und der Feuerwehr der Stadt Dietikon reinigen wir die Limmat beim Grillplatz Glanzenberg \nWICHTIG:                                                                         \nANMELDESCHLUSS IST 06.07.2025\n \n\n09:30 Uhr Besammlung Teilnehmer \n09:45 Uhr Briefing\n10:00 Uhr Abtauchen\n12:00 Uhr Mittagspause \n13:30 Uhr evt. zweiter Tauchgang\, sofern nötig \n15:00 Uhr Ende der Veranstaltung\n\n\nVereinsmitglieder melden sich via Clubdesk an. \nWer als Nicht-Mitglied teilnehmen möchte\, meldet sich bei Matthias Ardizzon praesi@abfalltaucher.ch \nBis bald und Gut Luft. \nVorstand Abfalltaucher
URL:https://abfalltaucher.ch/event/cleanup-limmat/
LOCATION:Dietikon\, Grillplatz Allmend Glanzenberg\, Dietikon\, Zürich\, 8953\, Switzerland
CATEGORIES:Cleanup Events
ORGANIZER;CN="Abfalltaucher Schweiz":MAILTO:praesi@abfalltaucher.ch
END:VEVENT
END:VCALENDAR