BEGIN:VCALENDAR
VERSION:2.0
PRODID:-//abfalltaucher.ch - ECPv6.15.13.1//NONSGML v1.0//EN
CALSCALE:GREGORIAN
METHOD:PUBLISH
X-ORIGINAL-URL:https://abfalltaucher.ch
X-WR-CALDESC:Veranstaltungen für abfalltaucher.ch
REFRESH-INTERVAL;VALUE=DURATION:PT1H
X-Robots-Tag:noindex
X-PUBLISHED-TTL:PT1H
BEGIN:VTIMEZONE
TZID:Europe/Berlin
BEGIN:DAYLIGHT
TZOFFSETFROM:+0100
TZOFFSETTO:+0200
TZNAME:CEST
DTSTART:20240331T010000
END:DAYLIGHT
BEGIN:STANDARD
TZOFFSETFROM:+0200
TZOFFSETTO:+0100
TZNAME:CET
DTSTART:20241027T010000
END:STANDARD
BEGIN:DAYLIGHT
TZOFFSETFROM:+0100
TZOFFSETTO:+0200
TZNAME:CEST
DTSTART:20250330T010000
END:DAYLIGHT
BEGIN:STANDARD
TZOFFSETFROM:+0200
TZOFFSETTO:+0100
TZNAME:CET
DTSTART:20251026T010000
END:STANDARD
BEGIN:DAYLIGHT
TZOFFSETFROM:+0100
TZOFFSETTO:+0200
TZNAME:CEST
DTSTART:20260329T010000
END:DAYLIGHT
BEGIN:STANDARD
TZOFFSETFROM:+0200
TZOFFSETTO:+0100
TZNAME:CET
DTSTART:20261025T010000
END:STANDARD
END:VTIMEZONE
BEGIN:VEVENT
DTSTART;VALUE=DATE:20250613
DTEND;VALUE=DATE:20250616
DTSTAMP:20260425T141026
CREATED:20250116T131051Z
LAST-MODIFIED:20250116T131051Z
UID:2923-1749772800-1750031999@abfalltaucher.ch
SUMMARY:Cleanup Silsersee
DESCRIPTION:Tauche ab und putze den Silsersee!\nAblauf des Events\n13. Juni 2025: Individuelle Anreise und Ankunft in Sils\, Check-in ins Hotel Maloja Palace\, gemeinsames Abendessen und Kennenlernen. \n14. Juni 2025: \n\n07:30 – 08:30 Uhr: Begrüssung und Sicherheitseinweisung\n09:00 – 12:00 Uhr: Erster Tauchgang in Gruppen\n12:00 – 16:00 Uhr: Zweiter Tauchgang in Gruppen\n16:00 – 17:00 Uhr: Abschlussveranstaltung und Präsentation der Ergebnisse\n19:00 – 24:00 Uhr: Gemütlicher Ausklang beim Fischerfest\n\n15. Juni 2025: Individuelle Heimreise \nEvent-Registrierung\nWas du brauchst\nUm an diesem besonderen Event teilzunehmen\, benötigst du: \n\nEigene Tauchausrüstung\nGültiges Bergsee-Brevet (als Mitglied der Abfalltaucher (Jahresbeitrag 100.-) kannst du das Bergsee Brevet kostenlos erlangen)\nAls Nichtmitglied bieten wir die Möglichkeit\, das Brevet in einem Online-Webinar zu erlangen\, Kosten 50.-\nMedizinischer Tauchtauglichkeitsnachweis\n\n  \nAnmeldung\nhttps://abfalltaucher.ch/silsersee-cleanup/\n 
URL:https://abfalltaucher.ch/event/cleanup-silsersee/
CATEGORIES:Cleanup Events
ORGANIZER;CN="Abfalltaucher Schweiz":MAILTO:praesi@abfalltaucher.ch
END:VEVENT
END:VCALENDAR