BEGIN:VCALENDAR
VERSION:2.0
PRODID:-//abfalltaucher.ch - ECPv6.15.13.1//NONSGML v1.0//EN
CALSCALE:GREGORIAN
METHOD:PUBLISH
X-ORIGINAL-URL:https://abfalltaucher.ch
X-WR-CALDESC:Veranstaltungen für abfalltaucher.ch
REFRESH-INTERVAL;VALUE=DURATION:PT1H
X-Robots-Tag:noindex
X-PUBLISHED-TTL:PT1H
BEGIN:VTIMEZONE
TZID:Europe/Berlin
BEGIN:DAYLIGHT
TZOFFSETFROM:+0100
TZOFFSETTO:+0200
TZNAME:CEST
DTSTART:20240331T010000
END:DAYLIGHT
BEGIN:STANDARD
TZOFFSETFROM:+0200
TZOFFSETTO:+0100
TZNAME:CET
DTSTART:20241027T010000
END:STANDARD
BEGIN:DAYLIGHT
TZOFFSETFROM:+0100
TZOFFSETTO:+0200
TZNAME:CEST
DTSTART:20250330T010000
END:DAYLIGHT
BEGIN:STANDARD
TZOFFSETFROM:+0200
TZOFFSETTO:+0100
TZNAME:CET
DTSTART:20251026T010000
END:STANDARD
BEGIN:DAYLIGHT
TZOFFSETFROM:+0100
TZOFFSETTO:+0200
TZNAME:CEST
DTSTART:20260329T010000
END:DAYLIGHT
BEGIN:STANDARD
TZOFFSETFROM:+0200
TZOFFSETTO:+0100
TZNAME:CET
DTSTART:20261025T010000
END:STANDARD
END:VTIMEZONE
BEGIN:VEVENT
DTSTART;TZID=Europe/Berlin:20250405T090000
DTEND;TZID=Europe/Berlin:20250405T160000
DTSTAMP:20260425T173120
CREATED:20250116T125837Z
LAST-MODIFIED:20250311T171920Z
UID:2915-1743843600-1743868800@abfalltaucher.ch
SUMMARY:Cleanup Luzern
DESCRIPTION:Clean-Up KKL gemeinsam mit Sodastream \nAm Samstag\, 05. April 2025  findet der Cleanup beim KKL statt. \nAnmeldung für Mitglieder via Clubdesk. Alle anderen Teilnehmer (Landhelfer und Taucher) via Mail praesi@abfalltaucher.ch bis spätestens 24.03.2025. \n\nOrt:\nKKL Luzern / Inseli Europaplatz1 6005 Luzern \n  \n\n07:30   Besammlung Staff  ( Boot Staff sollte um 09:15 in Luzern sein)\n09:15   Besammlung aller Teilnehmer\n09:30  Briefing \n10:00   1. Tauchgang\, Tauchzeit max 1Std oder bis 60 Bar erreicht ist.\n11:30- 13:00 Pause mit Mittagessen vor Ort und Gruppenfoto\n13:30   2. Tauchgang max. 1 Std oder bis 60 Bar erreicht ist. \n14:30   Retablieren damit wir ca 1500 Uhr Feierabend haben und glücklich wieder den Heimweg antretten können.\n\n\n  \nBis bald und Gut Luft. \nVorstand Abfalltaucher
URL:https://abfalltaucher.ch/event/cleanup-luzern-3/
LOCATION:KKL Luzern\, Europaplatz 1\, Luzern\, LU\, 6005\, Schweiz
CATEGORIES:Cleanup Events
ORGANIZER;CN="Abfalltaucher Schweiz":MAILTO:praesi@abfalltaucher.ch
END:VEVENT
BEGIN:VEVENT
DTSTART;TZID=Europe/Berlin:20250412T100000
DTEND;TZID=Europe/Berlin:20250412T170000
DTSTAMP:20260425T173120
CREATED:20250116T125951Z
LAST-MODIFIED:20250210T160151Z
UID:2917-1744452000-1744477200@abfalltaucher.ch
SUMMARY:Cleanup Brügg
DESCRIPTION:Cleanup mit dem Ortsverein Brügg unter dem Motto “Sauberes Brügg”\nAnmeldung für Vereins-Mitglieder via Clubdesk. Alle anderen Teilnehmer (Landhelfer und Taucher) via Mail praesi@abfalltaucher.ch bis spätestens 24.03.205 \n\n\n12:30 Uhr Eintreffen Staff (Aufstellen und Vorbereiten der Infrastruktur)\n13:00 Uhr Eintreffen Teilnehmer \n13:30 Uhr Briefing / Info für alle Teilnehmer und Gruppenfoto \nca. 17:00 Uhr gemeinsames Ausklingen im Werkhof Brügg\n\n\nWir freuen uns wieder auf viele motivierte Taucher und Helfer und Tauchclubs aus der Region.\n\nIm Voraus ein grosses Danke an alle.\n\nVorstand Abfalltaucher Schweiz
URL:https://abfalltaucher.ch/event/cleanupa-bruegg/
LOCATION:Brügg\, Kanalweg 24\, 2555 Brügg\, Schweiz
CATEGORIES:Cleanup Events
END:VEVENT
END:VCALENDAR