BEGIN:VCALENDAR
VERSION:2.0
PRODID:-//abfalltaucher.ch - ECPv6.15.13.1//NONSGML v1.0//EN
CALSCALE:GREGORIAN
METHOD:PUBLISH
X-ORIGINAL-URL:https://abfalltaucher.ch
X-WR-CALDESC:Veranstaltungen für abfalltaucher.ch
REFRESH-INTERVAL;VALUE=DURATION:PT1H
X-Robots-Tag:noindex
X-PUBLISHED-TTL:PT1H
BEGIN:VTIMEZONE
TZID:Europe/Berlin
BEGIN:DAYLIGHT
TZOFFSETFROM:+0100
TZOFFSETTO:+0200
TZNAME:CEST
DTSTART:20240331T010000
END:DAYLIGHT
BEGIN:STANDARD
TZOFFSETFROM:+0200
TZOFFSETTO:+0100
TZNAME:CET
DTSTART:20241027T010000
END:STANDARD
BEGIN:DAYLIGHT
TZOFFSETFROM:+0100
TZOFFSETTO:+0200
TZNAME:CEST
DTSTART:20250330T010000
END:DAYLIGHT
BEGIN:STANDARD
TZOFFSETFROM:+0200
TZOFFSETTO:+0100
TZNAME:CET
DTSTART:20251026T010000
END:STANDARD
BEGIN:DAYLIGHT
TZOFFSETFROM:+0100
TZOFFSETTO:+0200
TZNAME:CEST
DTSTART:20260329T010000
END:DAYLIGHT
BEGIN:STANDARD
TZOFFSETFROM:+0200
TZOFFSETTO:+0100
TZNAME:CET
DTSTART:20261025T010000
END:STANDARD
END:VTIMEZONE
BEGIN:VEVENT
DTSTART;TZID=Europe/Berlin:20250517T083000
DTEND;TZID=Europe/Berlin:20250517T150000
DTSTAMP:20260425T172921
CREATED:20250116T130129Z
LAST-MODIFIED:20250425T161225Z
UID:2919-1747470600-1747494000@abfalltaucher.ch
SUMMARY:Cleanup Horw
DESCRIPTION:Cleanup Horw Rüteli\nAufgrund der Parksituation haben wir einen Shuttle vom Werkhof Horw nach Rüteli eingerichtet.\nDaher ist es WICHTIG\, den Zeitplan zu beachten. \n\n08:00 Uhr Start für den Staff im Rüteli \n08:45- 09:15 Uhr Ausladen Equipment und anschliessend Fahrzeuge im Werkhof Horw parkieren und mit Shuttle zurück ins Rüteli kommen.\n09:45 Uhr Briefing \n10:00 Uhr Abtauchen ca. 1 Std. oder 50 Bar Restdruck\n11:30-12:00 Uhr Shuttle wieder zurück zum Werkhof\, Equipment verladen und zurück in den Werkhof stellen\, um anschliessend im Restaurant Wolfshütte Mittag zu essen.\n12:30 – 13:30 Uhr  Mittagessen \n14:30 Uhr Ende der Veranstaltung. (Verabschiedung von Marcel Küng Werkhofleiter Horw)\n\nTachorte : \nEWAG  \nRüteli Winkel  \nSeerosenplatz  \nVereinsmitglieder melden sich bitte via Clubdesk an\, Gäste melden sich bis zum 01.05. bei praesi@abfalltaucher.ch \nBis bald und Gut Luft. \nVorstand Abfalltaucher
URL:https://abfalltaucher.ch/event/cleanu-horw/
LOCATION:Horw\, Seestrasse 6\, Horw\, LU\, 6048\, Schweiz
CATEGORIES:Cleanup Events
ORGANIZER;CN="Abfalltaucher Schweiz":MAILTO:praesi@abfalltaucher.ch
END:VEVENT
END:VCALENDAR